BEGIN:VCALENDAR
VERSION:2.0
PRODID:-//Hugo Calendar Templates//Event Template//EN
CALSCALE:GREGORIAN
METHOD:PUBLISH
UID:03c1ca7de80bdb806a60bce3d3b7f652
LAST-MODIFIED:20260210T005403Z
URL:https://smc25.iem.at/events/
REFRESH-INTERVAL;VALUE=DURATION:P1W
SOURCE;VALUE=URI:https://smc25.iem.at/events/calendar.ics
COLOR:slateblue
NAME;LANGUAGE=en-US:SMC25 Events
DESCRIPTION;LANGUAGE=en-US:SMC25 Events Calendar
X-WR-CALNAME:SMC25 Events
X-WR-CALDESC:SMC25 Events Calendar
BEGIN:VTIMEZONE
TZID:Europe/Vienna
LAST-MODIFIED:20250121T082933Z
TZURL:https://www.tzurl.org/zoneinfo-outlook/Europe/Vienna
X-LIC-LOCATION:Europe/Vienna
BEGIN:DAYLIGHT
TZNAME:CEST
TZOFFSETFROM:+0100
TZOFFSETTO:+0200
DTSTART:19700329T020000
RRULE:FREQ=YEARLY;BYMONTH=3;BYDAY=-1SU
END:DAYLIGHT
BEGIN:STANDARD
TZNAME:CET
TZOFFSETFROM:+0200
TZOFFSETTO:+0100
DTSTART:19701025T030000
RRULE:FREQ=YEARLY;BYMONTH=10;BYDAY=-1SU
END:STANDARD
END:VTIMEZONE
BEGIN:VEVENT
DTSTAMP:20250326T124339Z
UID:a4236c054043c179be1023428881431e
DTSTART;VALUE=DATE:20250312
CREATED:20250325T175424Z
DESCRIPTION:
LAST-MODIFIED:20250326T124339Z
ORGANIZER;CN="SMC25 @ iem";PARTSTAT=CONFIRMED:mailto:contact@smc25.iem.at
SEQUENCE:812
STATUS:CONFIRMED
SUMMARY:SMC25: Extended deadline for submitting a full paper
TRANSP:OPAQUE
URL:https://smc25.iem.at/events/extended-deadline-for-submitting-a-full-paper/
DTEND;VALUE=DATE:20250313
COLOR:slateblue
END:VEVENT
BEGIN:VEVENT
DTSTAMP:20250326T124339Z
UID:4cac8383183f39ae214812dce574b5b5
DTSTART;VALUE=DATE:20250710
CREATED:20250325T175424Z
DESCRIPTION:
LAST-MODIFIED:20250326T124339Z
ORGANIZER;CN="SMC25 @ iem";PARTSTAT=CONFIRMED:mailto:contact@smc25.iem.at
SEQUENCE:812
STATUS:CONFIRMED
SUMMARY:SMC25: SMC 2025 Conference
TRANSP:OPAQUE
URL:https://smc25.iem.at/events/smc-2025-conference/
DTEND;VALUE=DATE:20250712
COLOR:slateblue
END:VEVENT
BEGIN:VEVENT
DTSTAMP:20250326T124339Z
UID:89372e32b0ff85992f0befd21698b9d2
DTSTART;VALUE=DATE:20250707
CREATED:20250325T175424Z
DESCRIPTION:
LAST-MODIFIED:20250326T124339Z
ORGANIZER;CN="SMC25 @ iem";PARTSTAT=CONFIRMED:mailto:contact@smc25.iem.at
SEQUENCE:812
STATUS:CONFIRMED
SUMMARY:SMC25: SMC 2025 Summer School
TRANSP:OPAQUE
URL:https://smc25.iem.at/events/smc-2025-summer-school/
DTEND;VALUE=DATE:20250709
COLOR:slateblue
END:VEVENT
BEGIN:VEVENT
DTSTAMP:20250326T124339Z
UID:99813de4ecd17e204eb28e1e647bc837
DTSTART;VALUE=DATE:20250303
CREATED:20250325T175424Z
DESCRIPTION:
LAST-MODIFIED:20250326T124339Z
ORGANIZER;CN="SMC25 @ iem";PARTSTAT=CONFIRMED:mailto:contact@smc25.iem.at
SEQUENCE:812
STATUS:CANCELLED
SUMMARY:SMC25: Deadline for submitting a full paper
TRANSP:OPAQUE
URL:https://smc25.iem.at/events/deadline-for-submitting-a-full-paper/
DTEND;VALUE=DATE:20250304
COLOR:slateblue
END:VEVENT
BEGIN:VEVENT
DTSTAMP:20250326T124339Z
UID:188de93e63c849ba993c444a1283835a
DTSTART;VALUE=DATE:20250207
CREATED:20250325T175424Z
DESCRIPTION:
LAST-MODIFIED:20250326T124339Z
ORGANIZER;CN="SMC25 @ iem";PARTSTAT=CONFIRMED:mailto:contact@smc25.iem.at
SEQUENCE:812
STATUS:CONFIRMED
SUMMARY:SMC25: Deadline for submitting a music piece
TRANSP:OPAQUE
URL:https://smc25.iem.at/events/deadline-for-submitting-a-music-piece/
DTEND;VALUE=DATE:20250208
COLOR:slateblue
END:VEVENT
BEGIN:VEVENT
DTSTAMP:20250326T124339Z
UID:c6604aaf03a795120f41d54ab93a5a32
DTSTART;VALUE=DATE:20241106
CREATED:20250325T175424Z
DESCRIPTION:
LAST-MODIFIED:20250326T124339Z
ORGANIZER;CN="SMC25 @ iem";PARTSTAT=CONFIRMED:mailto:contact@smc25.iem.at
SEQUENCE:812
STATUS:CONFIRMED
SUMMARY:SMC25: Call for Music & Sonic Arts
TRANSP:OPAQUE
URL:https://smc25.iem.at/events/call-for-music-sonic-arts/
DTEND;VALUE=DATE:20241107
COLOR:slateblue
END:VEVENT
BEGIN:VEVENT
DTSTAMP:20250326T124339Z
UID:cbc42c253e3ec9ed1cf9b8d6aa156aa1
DTSTART;VALUE=DATE:20241113
CREATED:20250325T175424Z
DESCRIPTION:
LAST-MODIFIED:20250326T124339Z
ORGANIZER;CN="SMC25 @ iem";PARTSTAT=CONFIRMED:mailto:contact@smc25.iem.at
SEQUENCE:812
STATUS:CONFIRMED
SUMMARY:SMC25: Call for Papers
TRANSP:OPAQUE
URL:https://smc25.iem.at/events/call-for-papers/
DTEND;VALUE=DATE:20241114
COLOR:slateblue
END:VEVENT
BEGIN:VEVENT
DTSTAMP:20250326T124339Z
UID:0967945d22d9a936b182912370e7beb3
DTSTART;VALUE=DATE:20250602
CREATED:20250325T175424Z
DESCRIPTION:
LAST-MODIFIED:20250326T124339Z
ORGANIZER;CN="SMC25 @ iem";PARTSTAT=CONFIRMED:mailto:contact@smc25.iem.at
SEQUENCE:812
STATUS:CONFIRMED
SUMMARY:SMC25: Camera-ready version due
TRANSP:OPAQUE
URL:https://smc25.iem.at/events/camera-ready-version-due/
DTEND;VALUE=DATE:20250603
COLOR:slateblue
END:VEVENT
BEGIN:VEVENT
DTSTAMP:20250326T124339Z
UID:f7c1bbf3472769d9796d08c4054f3191
DTSTART;VALUE=DATE:20250605
CREATED:20250325T175424Z
DESCRIPTION:
LAST-MODIFIED:20250326T124339Z
ORGANIZER;CN="SMC25 @ iem";PARTSTAT=CONFIRMED:mailto:contact@smc25.iem.at
SEQUENCE:812
STATUS:CONFIRMED
SUMMARY:SMC25: End of Early Bird registration
TRANSP:OPAQUE
URL:https://smc25.iem.at/events/end-of-early-bird-registration/
DTEND;VALUE=DATE:20250606
COLOR:slateblue
END:VEVENT
BEGIN:VEVENT
DTSTAMP:20250326T124339Z
UID:7cbb4222144d023808e99c1bcda7b02a
DTSTART;VALUE=DATE:20241220
CREATED:20250325T175424Z
DESCRIPTION:
LAST-MODIFIED:20250326T124339Z
ORGANIZER;CN="SMC25 @ iem";PARTSTAT=CONFIRMED:mailto:contact@smc25.iem.at
SEQUENCE:812
STATUS:CONFIRMED
SUMMARY:SMC25: Music & Sonic Arts submission open
TRANSP:OPAQUE
URL:https://smc25.iem.at/events/music-sonic-arts-submission-open/
DTEND;VALUE=DATE:20241221
COLOR:slateblue
END:VEVENT
BEGIN:VEVENT
DTSTAMP:20250326T124339Z
UID:d365b363f57bffbaef2119741cd12219
DTSTART;VALUE=DATE:20250228
CREATED:20250325T175424Z
DESCRIPTION:
LAST-MODIFIED:20250326T124339Z
ORGANIZER;CN="SMC25 @ iem";PARTSTAT=CONFIRMED:mailto:contact@smc25.iem.at
SEQUENCE:812
STATUS:CONFIRMED
SUMMARY:SMC25: Music review deadline
TRANSP:OPAQUE
URL:https://smc25.iem.at/events/music-review-deadline/
DTEND;VALUE=DATE:20250301
COLOR:slateblue
END:VEVENT
BEGIN:VEVENT
DTSTAMP:20250409T130235Z
UID:50a6a3e5ad294f4f050e42ce2f6dc666
DTSTART;VALUE=DATE:20250407
CREATED:20250325T175424Z
DESCRIPTION:
LAST-MODIFIED:20250409T130235Z
ORGANIZER;CN="SMC25 @ iem";PARTSTAT=CONFIRMED:mailto:contact@smc25.iem.at
SEQUENCE:812
STATUS:CONFIRMED
SUMMARY:SMC25: Notification of accepted music submissions
TRANSP:OPAQUE
URL:https://smc25.iem.at/events/notification-of-accepted-music-submissions-1/
DTEND;VALUE=DATE:20250408
COLOR:slateblue
END:VEVENT
BEGIN:VEVENT
DTSTAMP:20250326T124339Z
UID:e005ceaeb5b5d33b0913684a1c600751
DTSTART;VALUE=DATE:20250307
CREATED:20250325T175424Z
DESCRIPTION:
LAST-MODIFIED:20250326T124339Z
ORGANIZER;CN="SMC25 @ iem";PARTSTAT=CONFIRMED:mailto:contact@smc25.iem.at
SEQUENCE:812
STATUS:CANCELLED
SUMMARY:SMC25: Notification of accepted music submissions
TRANSP:OPAQUE
URL:https://smc25.iem.at/events/notification-of-accepted-music-submissions/
DTEND;VALUE=DATE:20250308
COLOR:slateblue
END:VEVENT
BEGIN:VEVENT
DTSTAMP:20250429T135236Z
UID:04a2c248e331d84f22a0e152e098e0de
DTSTART;VALUE=DATE:20250428
CREATED:20250325T175424Z
DESCRIPTION:
LAST-MODIFIED:20250429T135236Z
ORGANIZER;CN="SMC25 @ iem";PARTSTAT=CONFIRMED:mailto:contact@smc25.iem.at
SEQUENCE:812
STATUS:CONFIRMED
SUMMARY:SMC25: Notification of accepted paper submissions
TRANSP:OPAQUE
URL:https://smc25.iem.at/events/notification-of-accepted-paper-submissions/
DTEND;VALUE=DATE:20250429
COLOR:slateblue
END:VEVENT
BEGIN:VEVENT
DTSTAMP:20250326T124339Z
UID:a96eb70a16e7b51e7c254bc4f892a0ce
DTSTART;VALUE=DATE:20241220
CREATED:20250325T175424Z
DESCRIPTION:
LAST-MODIFIED:20250326T124339Z
ORGANIZER;CN="SMC25 @ iem";PARTSTAT=CONFIRMED:mailto:contact@smc25.iem.at
SEQUENCE:812
STATUS:CONFIRMED
SUMMARY:SMC25: Paper & Poster submission open
TRANSP:OPAQUE
URL:https://smc25.iem.at/events/paper-poster-submission-open/
DTEND;VALUE=DATE:20241221
COLOR:slateblue
END:VEVENT
BEGIN:VEVENT
DTSTAMP:20250429T120625Z
UID:45c15e9f43139f3af0a74d295ebd450c
DTSTART;VALUE=DATE:20250416
CREATED:20250325T175424Z
DESCRIPTION:
LAST-MODIFIED:20250429T120625Z
ORGANIZER;CN="SMC25 @ iem";PARTSTAT=CONFIRMED:mailto:contact@smc25.iem.at
SEQUENCE:812
STATUS:CONFIRMED
SUMMARY:SMC25: Paper review deadline
TRANSP:OPAQUE
URL:https://smc25.iem.at/events/paper-review-deadline-1/
DTEND;VALUE=DATE:20250417
COLOR:slateblue
END:VEVENT
BEGIN:VEVENT
DTSTAMP:20250326T124339Z
UID:14431d84406a5b5fc3d580fa0f1a985b
DTSTART;VALUE=DATE:20250408
CREATED:20250325T175424Z
DESCRIPTION:
LAST-MODIFIED:20250326T124339Z
ORGANIZER;CN="SMC25 @ iem";PARTSTAT=CONFIRMED:mailto:contact@smc25.iem.at
SEQUENCE:812
STATUS:CANCELLED
SUMMARY:SMC25: Paper review deadline
TRANSP:OPAQUE
URL:https://smc25.iem.at/events/paper-review-deadline/
DTEND;VALUE=DATE:20250409
COLOR:slateblue
END:VEVENT
BEGIN:VEVENT
DTSTAMP:20250506T142736Z
UID:3908ae61e2b7a665239986401aed209a
DTSTART;VALUE=DATE:20250505
CREATED:20250325T175424Z
DESCRIPTION:
LAST-MODIFIED:20250506T142736Z
ORGANIZER;CN="SMC25 @ iem";PARTSTAT=CONFIRMED:mailto:contact@smc25.iem.at
SEQUENCE:812
STATUS:CONFIRMED
SUMMARY:SMC25: Summer School & Conference registration open
TRANSP:OPAQUE
URL:https://smc25.iem.at/events/summer-school-conference-registration-open/
DTEND;VALUE=DATE:20250706
COLOR:slateblue
END:VEVENT
END:VCALENDAR
