BEGIN:VCALENDAR
VERSION:2.0
PRODID:-//Hugo Calendar Templates//Event Template//EN
CALSCALE:GREGORIAN
METHOD:PUBLISH
UID:0967945d22d9a936b182912370e7beb3
LAST-MODIFIED:20260210T005403Z
URL:https://smc25.iem.at/events/camera-ready-version-due/
REFRESH-INTERVAL;VALUE=DURATION:P1W
SOURCE;VALUE=URI:https://smc25.iem.at/events/camera-ready-version-due/calendar.ics
COLOR:slateblue
NAME;LANGUAGE=en-US:SMC25 Events
DESCRIPTION;LANGUAGE=en-US:SMC25 Events Calendar
X-WR-CALNAME:SMC25 Events
X-WR-CALDESC:SMC25 Events Calendar
BEGIN:VTIMEZONE
TZID:Europe/Vienna
LAST-MODIFIED:20250121T082933Z
TZURL:https://www.tzurl.org/zoneinfo-outlook/Europe/Vienna
X-LIC-LOCATION:Europe/Vienna
BEGIN:DAYLIGHT
TZNAME:CEST
TZOFFSETFROM:+0100
TZOFFSETTO:+0200
DTSTART:19700329T020000
RRULE:FREQ=YEARLY;BYMONTH=3;BYDAY=-1SU
END:DAYLIGHT
BEGIN:STANDARD
TZNAME:CET
TZOFFSETFROM:+0200
TZOFFSETTO:+0100
DTSTART:19701025T030000
RRULE:FREQ=YEARLY;BYMONTH=10;BYDAY=-1SU
END:STANDARD
END:VTIMEZONE
BEGIN:VEVENT
DTSTAMP:20250326T124339Z
UID:0967945d22d9a936b182912370e7beb3
DTSTART;VALUE=DATE:20250602
CREATED:20250325T175424Z
DESCRIPTION:
LAST-MODIFIED:20250326T124339Z
ORGANIZER;CN="SMC25 @ iem";PARTSTAT=CONFIRMED:mailto:contact@smc25.iem.at
SEQUENCE:812
STATUS:CONFIRMED
SUMMARY:SMC25: Camera-ready version due
TRANSP:OPAQUE
URL:https://smc25.iem.at/events/camera-ready-version-due/
DTEND;VALUE=DATE:20250603
COLOR:slateblue
END:VEVENT
END:VCALENDAR
